BEGIN:VCALENDAR
VERSION:2.0
PRODID:-//jEvents 2.0 for Joomla//EN
CALSCALE:GREGORIAN
METHOD:PUBLISH
BEGIN:VTIMEZONE
TZID:Europe/Berlin
BEGIN:STANDARD
DTSTART:20251026T020000
RDATE:20260329T030000
TZOFFSETFROM:+0200
TZOFFSETTO:+0100
TZNAME:Europe/Berlin CET
END:STANDARD
BEGIN:DAYLIGHT
DTSTART:20250618T180000
RDATE:20251026T020000
TZOFFSETFROM:+0100
TZOFFSETTO:+0200
TZNAME:Europe/Berlin CEST
END:DAYLIGHT
END:VTIMEZONE
BEGIN:VEVENT
UID:9700cafb599a47af880cf6505b26adaf
CATEGORIES:Juleica Kurse
CREATED:20260420T145110
SUMMARY:Juleica Kurs "Inklusion in der Jugendarbeit"
LOCATION:Wird noch bekannt gegeben
DESCRIPTION:Juleica Kurs „Inklusion in der Jugendarbeit“\nAm Freitag, 19.06.26 von 18 b
 is 21 Uhr\nOrt: Lebenshilfe Lörrach, Wintersbuckstraße 7\nAngebote der Juge
 ndarbeit sollen für alle Jugendlichen zugänglich sein – unabhängig von Herk
 unft, Fähigkeiten oder besonderen Bedürfnissen.\nFolgende Inhalte werden be
 im Kurs bearbeitet:\n\n - Grundlagen der Inklusion und Formen von Behinderu
 ng\n - Selbstbestimmung, Teilhabe Inklusion\n - Barrieren überwinden: Leich
 te Sprache, Persönliche Assistenz, Aufgaben als Assistent*in oder Betreuer*
 in\n - Herausforderndes Verhalten und Umgang damit\n - Praxisteil zu „Assis
 tenz ausüben und selbst erleben“, Berührungsängste abbauen\n - Methoden, um
  Gruppenangebote für alle Kinder und Jugendlichen zugänglich zu machenDer K
 urs kann als Modulbaustein genutzt werden, um die Gültigkeit der Juleica zu
  verlängern. Insgesamt werden 8 Zeitstunden benötigt für die Verlängerung d
 er Juleica.\nWeitere Bausteine zur Verlängerung der Juleica können z.B. onl
 ine über die Umbrella Academy der kja besucht werden:\n (https://www.kja-fr
 eiburg.de/umbrella)https://www.kja-freiburg.de/umbrella (https://www.kja-fr
 eiburg.de/umbrella)\n \nReferent*innen: Katrin Schröder-Meiburg – Lebenshil
 fe Lörrach\nin Kooperation mit Kreisjugendreferat Lörrach\n \nAnmeldung für
  den Kurs unter folgendem Link:\nhttps://widgets.yolawo.de/w/0/bookables/69
 e61f7fa8b440a5a148d62c\n \nBei Fragen wenden Sie sich bitte an das Kreisjug
 endreferat Lörrach.\n
X-ALT-DESC;FMTTYPE=text/html:<p><strong>Juleica Kurs „Inklusion in der Jugendarbeit“</strong></p><p>Am F
 reitag, 19.06.26 von 18 bis 21 Uhr</p><p>Ort: Lebenshilfe Lörrach, Wintersb
 uckstraße 7</p><p>Angebote der Jugendarbeit sollen für alle Jugendlichen zu
 gänglich sein – unabhängig von Herkunft, Fähigkeiten oder besonderen Bedürf
 nissen.</p><p>Folgende Inhalte werden beim Kurs bearbeitet:</p><ul><li>Grun
 dlagen der Inklusion und Formen von Behinderung</li><li>Selbstbestimmung, T
 eilhabe Inklusion</li><li>Barrieren überwinden: Leichte Sprache, Persönlich
 e Assistenz, Aufgaben als Assistent*in oder Betreuer*in</li><li>Herausforde
 rndes Verhalten und Umgang damit</li><li>Praxisteil zu „Assistenz ausüben u
 nd selbst erleben“, Berührungsängste abbauen</li><li>Methoden, um Gruppenan
 gebote für alle Kinder und Jugendlichen zugänglich zu machen</li></ul><p>De
 r Kurs kann als Modulbaustein genutzt werden, um die Gültigkeit der Juleica
  zu verlängern. Insgesamt werden 8 Zeitstunden benötigt für die Verlängerun
 g der Juleica.</p><p>Weitere Bausteine zur Verlängerung der Juleica können 
 z.B. online über die Umbrella Academy der kja besucht werden:</p><p><a href
 ="https://www.kja-freiburg.de/umbrella"></a><a href="https://www.kja-freibu
 rg.de/umbrella" target="_blank" rel="noopener">https://www.kja-freiburg.de/
 umbrella</a></p><p>&nbsp;</p><p>Referent*innen: Katrin Schröder-Meiburg – L
 ebenshilfe Lörrach</p><p>in Kooperation mit Kreisjugendreferat Lörrach</p><
 p>&nbsp;</p><p><strong>Anmeldung für den Kurs unter folgendem Link:</strong
 ></p><p><a href="https://widgets.yolawo.de/w/0/bookables/69e61f7fa8b440a5a1
 48d62c" target="_blank" rel="noopener">https://widgets.yolawo.de/w/0/bookab
 les/69e61f7fa8b440a5a148d62c</a></p><p>&nbsp;</p><p>Bei Fragen wenden Sie s
 ich bitte an das Kreisjugendreferat Lörrach.</p>
CONTACT:info@jugendagenturen.de
DTSTAMP:20260421T160026
DTSTART;TZID=Europe/Berlin:20260619T180000
DTEND;TZID=Europe/Berlin:20260619T210000
SEQUENCE:0
TRANSP:OPAQUE
END:VEVENT
END:VCALENDAR